BEGIN:VCALENDAR
PRODID:-//PUBBLE//agenda//NL
VERSION:2.0
METHOD:PUBLISH
BEGIN:VEVENT
DTSTART:20250803T110000Z
DTEND:20250803T150000Z
DTSTAMP:20260424T162205Z
UID:3d2b7f46-cd86-4c30-ad45-08968b6f06c2
CREATED:20260424T162205Z
NAME:Sneekweek Koopzondag grootbolsward-ijsselmeerkust.nl
X-WR-CALNAME:Sneekweek Koopzondag
X-ALT-DESC;FMTTYPE=text/html:<a href='/agenda/2025/8/3/sneekweek-koopzondag-109736'>/agenda/2025/8/3/sneekweek-koopzondag-109736</a> || <p>De winkeliers heten je van harte welkom tijdens de koopzondag! Veel winkels in het centrum zijn geopenden hebben leuke Sneekweek acties. Ook is er muziek in het centrum op de terrassen.&nbsp;</p>
<p>Houd er wel rekening mee dat openingstijden kunnen verschillen – het is aan de winkels zelf of ze meedoen. Maar één ding is zeker: een bezoek aan Sneek is altijd de moeite waard!</p>
<p>Tip: combineer het winkelen met een terrasje!</p>
DESCRIPTION:<a href='/agenda/2025/8/3/sneekweek-koopzondag-109736'>/agenda/2025/8/3/sneekweek-koopzondag-109736</a> || <p>De winkeliers heten je van harte welkom tijdens de koopzondag! Veel winkels in het centrum zijn geopenden hebben leuke Sneekweek acties. Ook is er muziek in het centrum op de terrassen.&nbsp;</p>
<p>Houd er wel rekening mee dat openingstijden kunnen verschillen – het is aan de winkels zelf of ze meedoen. Maar één ding is zeker: een bezoek aan Sneek is altijd de moeite waard!</p>
<p>Tip: combineer het winkelen met een terrasje!</p>
LAST-MODIFIED:20260424T162205Z
LOCATION: Koopzondag | Schaapmarktplein 3 SNEEK
SEQUENCE:0
STATUS:CONFIRMED
SUMMARY:Sneekweek Koopzondag
TRANSP:OPAQUE
END:VEVENT
END:VCALENDAR
