BEGIN:VCALENDAR
PRODID:-//PUBBLE//agenda//NL
VERSION:2.0
METHOD:PUBLISH
BEGIN:VEVENT
DTSTART:20240801T052150Z
DTEND:20240801T062150Z
DTSTAMP:20260425T021752Z
UID:091974b1-b20a-455c-893d-53abe06dd0ed
CREATED:20260425T021752Z
NAME:Nationale Fierljep Manifestatie grootbolsward-ijsselmeerkust.nl
X-WR-CALNAME:Nationale Fierljep Manifestatie
X-ALT-DESC;FMTTYPE=text/html:<a href='/agenda/2024/8/3/nationale-fierljep-manifestatie-84340'>/agenda/2024/8/3/nationale-fierljep-manifestatie-84340</a> || <p><strong>IT HEIDENSKIP - Zaterdag 3 augustus is de Nationale Fierljep Manifestatie in it Heidenskip. Vanaf 9.30 uur beginnen de voorrondes en om 19.00 uur start de spectaculaire finale.</strong></p><p>De Nationale Fierljep Manifestatie (NFM) is een open kampioenschap waarbij er overdag in voorrondes geprobeerd wordt om verder dan de finalelimiet te springen. De beste fierljeppers springen ‘s avonds om 19.00 uur de spectaculaire finale waarna de NFM kapioenen gehuldigd worden.&nbsp;</p><p>De voorrondes starten om 9.30 uur en er is de hele dag vermaak voor jong en oud. De fierljepdag staat dit jaar in het teken van het thema de oertijd / the Flintstones. Er zijn nevenactiviteiten voor de jeugd en na afloop van de finale is het nog lang gezellig in de feesttent. Er is voldoende parkeergelegenheid bij het fierljepterrein in it Heidenskip.</p>
DESCRIPTION:<a href='/agenda/2024/8/3/nationale-fierljep-manifestatie-84340'>/agenda/2024/8/3/nationale-fierljep-manifestatie-84340</a> || <p><strong>IT HEIDENSKIP - Zaterdag 3 augustus is de Nationale Fierljep Manifestatie in it Heidenskip. Vanaf 9.30 uur beginnen de voorrondes en om 19.00 uur start de spectaculaire finale.</strong></p><p>De Nationale Fierljep Manifestatie (NFM) is een open kampioenschap waarbij er overdag in voorrondes geprobeerd wordt om verder dan de finalelimiet te springen. De beste fierljeppers springen ‘s avonds om 19.00 uur de spectaculaire finale waarna de NFM kapioenen gehuldigd worden.&nbsp;</p><p>De voorrondes starten om 9.30 uur en er is de hele dag vermaak voor jong en oud. De fierljepdag staat dit jaar in het teken van het thema de oertijd / the Flintstones. Er zijn nevenactiviteiten voor de jeugd en na afloop van de finale is het nog lang gezellig in de feesttent. Er is voldoende parkeergelegenheid bij het fierljepterrein in it Heidenskip.</p>
LAST-MODIFIED:20260425T021752Z
LOCATION: Fierljepschansen | Brânburren 26 It Heidenskip
SEQUENCE:0
STATUS:CONFIRMED
SUMMARY:Nationale Fierljep Manifestatie
TRANSP:OPAQUE
END:VEVENT
END:VCALENDAR
